BEGIN:VCALENDAR
VERSION:2.0
PRODID:-//eventon.com NONSGML v1.0//EN
CALSCALE:GREGORIAN
METHOD:PUBLISH
BEGIN:VEVENT
UID:69eb565ce286b
DTSTAMP:20260424T113908Z
DTSTART:20250706T070000Z
DTEND:20250706T235900Z
LOCATION:Centro de Convenções Ulysses Guimarães SDC - Ulysses Guimarães\,  Brasília - DF\,  70655-775
SUMMARY:CORRIDONA 2025
DESCRIPTION:\nhttps://correrbrasilia.com.br/events/corridona-2025/
URL:https://correrbrasilia.com.br/events/corridona-2025/
END:VEVENT
END:VCALENDAR