BEGIN:VCALENDAR
VERSION:2.0
PRODID:-//eventon.com NONSGML v1.0//EN
CALSCALE:GREGORIAN
METHOD:PUBLISH
BEGIN:VEVENT
UID:69eb3855e5158
DTSTAMP:20260424T093101Z
DTSTART:20241214T220000Z
DTEND:20241215T025900Z
LOCATION:Memorial dos Povos Indígenas Zona Cívico-Administrativa Em frente ao Memorial JK\,  Brasília - DF\,  70070-300
SUMMARY:JINGLE BELLS 2024
DESCRIPTION:JINGLE BELLS!&nbsp;Um Encanto! Uma&nbsp;Corrida! ﻿A&nbsp;CORR
 IDA JINGLE BELLS é uma corrida&nbsp;presencial\,  onde o participante pode
  se inscrever na&nbsp;distância&nbsp;única de 5km. O evento acontecerá n
 o&nbsp;dia 14&nbsp;de Dezembro de 2024&nbsp;(Sábado)\,  com largada às 19
 h\,  no Museu do Índio\,  em frente ao Memorial JK. Brasília-DF. &gt;&nbs
 p;&nbsp;&nbsp;INSCRIÇÕES&nbsp;&nbsp; PRIMEIRO LOTE R$119\, 90 DESCONTOS E
 XCLUSIVOS (A partir do[..]\nhttps://correrbrasilia.com.br/events/jingle-bel
 ls-2024/
URL:https://correrbrasilia.com.br/events/jingle-bells-2024/
END:VEVENT
END:VCALENDAR