BEGIN:VCALENDAR
VERSION:2.0
PRODID:-//eventon.com NONSGML v1.0//EN
CALSCALE:GREGORIAN
METHOD:PUBLISH
BEGIN:VEVENT
UID:69ea3b04ed5a1
DTSTAMP:20260423T153012Z
DTSTART:20240825T100000Z
DTEND:20240826T025900Z
LOCATION:Estacionamento atrás do Edifício Consei SRIA II Eq 31/33\,  Guará II\,  Brasília/DF
SUMMARY:SESC+CORRIDA – Etapa Guará
DESCRIPTION:Vem aí a tão esperada etapa GUARÁ do circuito SESC+CORRIDA! 
 Será dia 25 de agosto\,  com largada no Estacionamento atrás do Edifício
  Consei\, &nbsp;SRIA II Eq 31/33\,  Guará II\,  BRASÍLIA/DF. Com percurso
 s de 5km e 10km\,  além da caminhada de 3km para reunir todos os amigos e 
 familiares.&nbsp; O evento tem[..]\nhttps://correrbrasilia.com.br/events/se
 sccorrida-etapa-guara/
URL:https://correrbrasilia.com.br/events/sesccorrida-etapa-guara/
END:VEVENT
END:VCALENDAR