BEGIN:VCALENDAR
VERSION:2.0
PRODID:-//eventon.com NONSGML v1.0//EN
CALSCALE:GREGORIAN
METHOD:PUBLISH
BEGIN:VEVENT
UID:69ebba61ec97d
DTSTAMP:20260424T184553Z
DTSTART:20240929T100000Z
DTEND:20240930T025900Z
LOCATION:ParkShopping Brasilia SMAS Trecho 1 - Guará\,  Brasília - DF\,  71219-900
SUMMARY:CORRIDA GRANADO PINK BRASÍLIA
DESCRIPTION:Sucesso em todo o Brasil\,  o Circuito de Corrida de Rua Granad
 o Pink chega pela primeira vez para Brasília. A capital do distrito federa
 l receberá a corrida exclusiva para mulheres promovida pela Granado\,  a b
 otica mais antiga do país\,  no domingo\,  dia 29 de setembro\,  com um pe
 rcurso de caminhada[..]\nhttps://correrbrasilia.com.br/events/corrida-grana
 do-pink-brasilia/
URL:https://correrbrasilia.com.br/events/corrida-granado-pink-brasilia/
END:VEVENT
END:VCALENDAR