BEGIN:VCALENDAR
VERSION:2.0
PRODID:-//eventon.com NONSGML v1.0//EN
CALSCALE:GREGORIAN
METHOD:PUBLISH
BEGIN:VEVENT
UID:69e709e1e68a7
DTSTAMP:20260421T052345Z
DTSTART:20240901T100000Z
DTEND:20240902T025900Z
LOCATION:Praça do Buriti Zona Cívico-Administrativa - Brasília\,  DF\,  70297-400
SUMMARY:NUTRIÇÃO BRASIL RUN 2024
DESCRIPTION:\nhttps://correrbrasilia.com.br/events/nutricao-brasil-run-2024
 /
URL:https://correrbrasilia.com.br/events/nutricao-brasil-run-2024/
END:VEVENT
END:VCALENDAR