BEGIN:VCALENDAR
VERSION:2.0
PRODID:-//eventon.com NONSGML v1.0//EN
CALSCALE:GREGORIAN
METHOD:PUBLISH
BEGIN:VEVENT
UID:69eb565c5e5b8
DTSTAMP:20260424T113908Z
DTSTART:20240720T210000Z
DTEND:20240721T025900Z
LOCATION:Praça dos Cristais Praça Duque de Caxias\,  SMU - Brasília\,  DF
SUMMARY:Corrida POUPEX Etapa Tucano
DESCRIPTION:Kit Percursos Percurso 5km Percurso 10km\nhttps://correrbrasili
 a.com.br/events/corrida-poupex-etapa-tucano/
URL:https://correrbrasilia.com.br/events/corrida-poupex-etapa-tucano/
END:VEVENT
END:VCALENDAR