BEGIN:VCALENDAR
VERSION:2.0
PRODID:-//eventon.com NONSGML v1.0//EN
CALSCALE:GREGORIAN
METHOD:PUBLISH
BEGIN:VEVENT
UID:69ea9767e42a5
DTSTAMP:20260423T220423Z
DTSTART:20240505T110000Z
DTEND:20240506T025900Z
LOCATION:Parque da Cidade - Estacionamento 03 Srps - Brasília\,  DF\,  70655-775
SUMMARY:Wings for Life World Run App Run Organizada
DESCRIPTION:Wings for Life World Run App Run Organizada\nhttps://correrbras
 ilia.com.br/events/wings-for-life-world-run-app-run-organizada-2/
URL:https://correrbrasilia.com.br/events/wings-for-life-world-run-app-run-organizada-2/
END:VEVENT
END:VCALENDAR