BEGIN:VCALENDAR
VERSION:2.0
PRODID:-//eventon.com NONSGML v1.0//EN
CALSCALE:GREGORIAN
METHOD:PUBLISH
BEGIN:VEVENT
UID:69eb82f70f613
DTSTAMP:20260424T144927Z
DTSTART:20240428T100000Z
DTEND:20240429T025900Z
LOCATION:Eixão Norte – Em frente a Agência Central dos Correios St. Bancário Norte Q 1 - Asa Norte\,  Brasília - DF\,  70002-900
SUMMARY:21ª MEIA MARATONA INTERNACIONAL DE BRASÍLIA
DESCRIPTION:\nhttps://correrbrasilia.com.br/events/21a-meia-maratona-intern
 acional-de-brasilia/
URL:https://correrbrasilia.com.br/events/21a-meia-maratona-internacional-de-brasilia/
END:VEVENT
END:VCALENDAR